BEGIN:VCALENDAR
VERSION:2.0
PRODID:-//hacksw/handcal//NONSGML v1.0//EN
BEGIN:VEVENT
SUMMARY:Entrainement du 26/04/2026
UID:d339a481-b7a8-43ea-8e9d-011bd74b9b17
DTSTART:20260425T220000Z
DTEND:20260426T220000Z
LOCATION:Localisation   
CATEGORIES:Entrainement
STATUS:
DESCRIPTION:<p>Sortie longue 2h (si possible en terrain vallonne)</p>
URL;VALUE=URI:https://www.nieulairpur.com/evenements/2026/04/26/entrainement-du-26042026-2443279
END:VEVENT
END:VCALENDAR
