BEGIN:VCALENDAR
VERSION:2.0
PRODID:-//hacksw/handcal//NONSGML v1.0//EN
BEGIN:VEVENT
SUMMARY:Entrainement du 23/04/2026
UID:5d403ae3-80ca-4af7-9bb4-604e27fec47a
DTSTART:20260423T163000Z
DTEND:20260423T180000Z
LOCATION:Espace Michel Crepeau Rue de Lauzieres 17137 Nieul-sur-Mer
CATEGORIES:Entrainement
STATUS:
DESCRIPTION:<p>15mn facile (echauffement, 60%)<br>
 20mn a
 80%<br>
 10mn facile (60%)<br>
 20mn a 80%<br>
 Retour footing 10mn</p>
URL;VALUE=URI:https://www.nieulairpur.com/evenements/2026/04/23/entrainement-du-23042026-2443278
END:VEVENT
END:VCALENDAR
