BEGIN:VCALENDAR
VERSION:2.0
PRODID:-//hacksw/handcal//NONSGML v1.0//EN
BEGIN:VEVENT
SUMMARY:Entrainement du 22/04/2026
UID:4fccc00b-591d-4b0b-87d4-dcb77f48a88f
DTSTART:20260421T220000Z
DTEND:20260422T220000Z
LOCATION:Localisation   
CATEGORIES:Entrainement
STATUS:
DESCRIPTION:<p>Footing 45mn</p>
URL;VALUE=URI:https://www.nieulairpur.com/evenements/2026/04/22/entrainement-du-22042026-2443276
END:VEVENT
END:VCALENDAR
