BEGIN:VCALENDAR
VERSION:2.0
PRODID:-//hacksw/handcal//NONSGML v1.0//EN
BEGIN:VEVENT
SUMMARY:Entrainement du 21/04/2026
UID:1a8b75f2-abf6-446f-bd10-f82993b2c35a
DTSTART:20260421T163000Z
DTEND:20260421T174500Z
LOCATION:Espace Michel Crepeau Rue de Lauzieres 17137 Nieul-sur-Mer
CATEGORIES:Entrainement
STATUS:
DESCRIPTION:<p>Echauffement 20m<br>
 8 x 2mn/1mn a 90%<br>
 Retour
 footing 10mn</p>
URL;VALUE=URI:https://www.nieulairpur.com/evenements/2026/04/21/entrainement-du-21042026-2443275
END:VEVENT
END:VCALENDAR
