BEGIN:VCALENDAR
VERSION:2.0
PRODID:-//hacksw/handcal//NONSGML v1.0//EN
BEGIN:VEVENT
SUMMARY:Entrainement du 05/04/2026
UID:316807f5-d55c-4c0e-bf1b-b915beb7ed34
DTSTART:20260404T220000Z
DTEND:20260405T220000Z
LOCATION:Localisation   
CATEGORIES:Entrainement
STATUS:
DESCRIPTION:<p>Sortie longue 1h20</p>
URL;VALUE=URI:https://www.nieulairpur.com/evenements/2026/04/05/entrainement-du-05042026-2435262
END:VEVENT
END:VCALENDAR
