BEGIN:VCALENDAR
VERSION:2.0
PRODID:-//hacksw/handcal//NONSGML v1.0//EN
BEGIN:VEVENT
SUMMARY:Entrainement du 02/04/2026
UID:a07bb1e0-b21e-42dc-a867-3a875347adc5
DTSTART:20260402T163000Z
DTEND:20260402T174500Z
LOCATION:Espace Michel Crepeau Rue de Lauzieres 17137 Nieul-sur-Mer
CATEGORIES:Entrainement
STATUS:
DESCRIPTION:<p>Endurance 1h</p>
URL;VALUE=URI:https://www.nieulairpur.com/evenements/2026/04/02/entrainement-du-02042026-2435259
END:VEVENT
END:VCALENDAR
