BEGIN:VCALENDAR
VERSION:2.0
PRODID:-//hacksw/handcal//NONSGML v1.0//EN
BEGIN:VEVENT
SUMMARY:Entrainement du 01/04/2026
UID:c219a274-9c71-41a4-ac44-7a59cf9b7765
DTSTART:20260331T220000Z
DTEND:20260401T220000Z
LOCATION:Localisation   
CATEGORIES:Entrainement
STATUS:
DESCRIPTION:<p>Repos</p>
URL;VALUE=URI:https://www.nieulairpur.com/evenements/2026/04/01/entrainement-du-01042026-2435256
END:VEVENT
END:VCALENDAR
