BEGIN:VCALENDAR
VERSION:2.0
PRODID:-//hacksw/handcal//NONSGML v1.0//EN
BEGIN:VEVENT
SUMMARY:Entrainement du 31/03/2026
UID:bef6f8c6-d739-4645-a951-2818d80c444d
DTSTART:20260331T163000Z
DTEND:20260331T174500Z
LOCATION:Espace Michel Crepeau Rue de Lauzieres 17137 Nieul-sur-Mer
CATEGORIES:Entrainement
STATUS:
DESCRIPTION:<p>Endurance 1h</p>
URL;VALUE=URI:https://www.nieulairpur.com/evenements/2026/03/31/entrainement-du-31032026-2435253
END:VEVENT
END:VCALENDAR
